BEGIN:VCALENDAR
VERSION:2.0
PRODID:-//Schweizer Verein Berlin - ECPv6.11.2.1//NONSGML v1.0//EN
CALSCALE:GREGORIAN
METHOD:PUBLISH
X-WR-CALNAME:Schweizer Verein Berlin
X-ORIGINAL-URL:https://www.schweizer-verein-berlin.de
X-WR-CALDESC:Veranstaltungen für Schweizer Verein Berlin
REFRESH-INTERVAL;VALUE=DURATION:PT1H
X-Robots-Tag:noindex
X-PUBLISHED-TTL:PT1H
BEGIN:VTIMEZONE
TZID:Europe/Berlin
BEGIN:DAYLIGHT
TZOFFSETFROM:+0100
TZOFFSETTO:+0200
TZNAME:CEST
DTSTART:20250330T010000
END:DAYLIGHT
BEGIN:STANDARD
TZOFFSETFROM:+0200
TZOFFSETTO:+0100
TZNAME:CET
DTSTART:20251026T010000
END:STANDARD
END:VTIMEZONE
BEGIN:VEVENT
DTSTART;TZID=Europe/Berlin:20250517T160000
DTEND;TZID=Europe/Berlin:20250517T190000
DTSTAMP:20260426T001633
CREATED:20241208T215846Z
LAST-MODIFIED:20250427T095712Z
UID:2689-1747497600-1747508400@www.schweizer-verein-berlin.de
SUMMARY:GENERALVERSAMMLUNG 2025 / ASSEMBLEE GENERALE 2025
DESCRIPTION:Wir treffen uns am SAMSTAG\, 17. MAI 2025\, in der WULLE\, Wullenweberstraße 15\, 10555 Berlin\, das ist das Vereinslokal des TSV GutsMuths\, der wie unser Verein in 1861 gegründet wurde. \nStart: 16 Uhr\, Einlass: ab 15:30 Uhr. \nUnsere Mitglieder erhalten rechtzeitig eine Einladung mit weiteren Informationen.
URL:https://www.schweizer-verein-berlin.de/event/generalversammlung-2025-assemblee-generale-2025/
LOCATION:WULLE\, Wullenweberstraße 15\, Berlin\, 10555\, Germany
END:VEVENT
END:VCALENDAR