BEGIN:VCALENDAR
VERSION:2.0
PRODID:-//Schweizer Verein Berlin - ECPv6.11.2.1//NONSGML v1.0//EN
CALSCALE:GREGORIAN
METHOD:PUBLISH
X-WR-CALNAME:Schweizer Verein Berlin
X-ORIGINAL-URL:https://www.schweizer-verein-berlin.de
X-WR-CALDESC:Veranstaltungen für Schweizer Verein Berlin
REFRESH-INTERVAL;VALUE=DURATION:PT1H
X-Robots-Tag:noindex
X-PUBLISHED-TTL:PT1H
BEGIN:VTIMEZONE
TZID:Europe/Berlin
BEGIN:DAYLIGHT
TZOFFSETFROM:+0100
TZOFFSETTO:+0200
TZNAME:CEST
DTSTART:20250330T010000
END:DAYLIGHT
BEGIN:STANDARD
TZOFFSETFROM:+0200
TZOFFSETTO:+0100
TZNAME:CET
DTSTART:20251026T010000
END:STANDARD
END:VTIMEZONE
BEGIN:VEVENT
DTSTART;TZID=Europe/Berlin:20250615T134500
DTEND;TZID=Europe/Berlin:20250615T134500
DTSTAMP:20260425T223901
CREATED:20250609T125858Z
LAST-MODIFIED:20250609T131454Z
UID:2739-1749995100-1749995100@www.schweizer-verein-berlin.de
SUMMARY:BESUCH DER AUSSTELLLUNG „MENSCH BERLIN“
DESCRIPTION:In diesem Jahr wird das 40. Jubiläum der Stiftung Kunstforum Berliner Volksbank gefeiert. Gegründet im geteilten Berlin des Jahres 1985 unter dem Leitmotiv „Bilder vom Menschen – Bilder für Menschen“\, bereichert die Sammlung die Berliner Kunstszene von Beginn an. Heute umfasst sie über 1.500 Werke von rund 200 Künstler:innen. Der Schwerpunkt liegt auf gegenständlicher deutscher Kunst nach 1950\, insbesondere vor und nach der bewegten Zeit der Wiedervereinigung. Neben den Highlights der Sammlung werden auch weniger oft gezeigte Werke zu sehen sein. Wir treffen uns um 13.45 Uhr am Kaiserdamm 105\, 14057 Berlin. Rudy Stüssi wird uns durch die Sammlung führen. Der Eintritt beträgt 5 Euro pro Person. Im Anschluss lassen wir den Nachmittag in einem Café in der Nähe ausklingen. Bei Interesse meldet Euch bitte bei rudolfstussi@hotmail.com oder bei a.schulze@schweizer-verein-berlin.de.
URL:https://www.schweizer-verein-berlin.de/event/besuch-der-ausstellung-mensch-berlin/
LOCATION:Stiftung Kunstforum Berliner Volksbank\, Kaiserdamm 105\, Berlin\, 14057
END:VEVENT
END:VCALENDAR