BEGIN:VCALENDAR
VERSION:2.0
PRODID:-//Schweizer Verein Berlin - ECPv6.11.2.1//NONSGML v1.0//EN
CALSCALE:GREGORIAN
METHOD:PUBLISH
X-WR-CALNAME:Schweizer Verein Berlin
X-ORIGINAL-URL:https://www.schweizer-verein-berlin.de
X-WR-CALDESC:Veranstaltungen für Schweizer Verein Berlin
REFRESH-INTERVAL;VALUE=DURATION:PT1H
X-Robots-Tag:noindex
X-PUBLISHED-TTL:PT1H
BEGIN:VTIMEZONE
TZID:Europe/Berlin
BEGIN:DAYLIGHT
TZOFFSETFROM:+0100
TZOFFSETTO:+0200
TZNAME:CEST
DTSTART:20250330T010000
END:DAYLIGHT
BEGIN:STANDARD
TZOFFSETFROM:+0200
TZOFFSETTO:+0100
TZNAME:CET
DTSTART:20251026T010000
END:STANDARD
END:VTIMEZONE
BEGIN:VEVENT
DTSTART;TZID=Europe/Berlin:20250619T190000
DTEND;TZID=Europe/Berlin:20250619T190000
DTSTAMP:20260425T223830
CREATED:20250610T161617Z
LAST-MODIFIED:20250610T161617Z
UID:2771-1750359600-1750359600@www.schweizer-verein-berlin.de
SUMMARY:KONZERT ROSEYWORLD
DESCRIPTION:Im Rahmen dieses exklusiven Abends präsentieren junge Talente ein anspruchsvolles klassisches Konzertprogramm. Im Anschluss laden wir zum Gedankenaustausch über die Zukunft der Bildung ein. Gastgeber sind drei renommierte unabhängige Schweizer Bildungsinstitutionen: Institut Le Rosey\, Le Régent International School und die JFK International School. \nDiese Veranstaltung ist nicht nur eine Hommage an die klassische Musik\, sondern auch eine Gelegenheit\, das Schweizer Bildungsverständnis und dessen Werte mit Familien\, Fachleuten und kulturell interessierten Persönlichkeiten in Hamburg und Berlin zu teilen. Bildung ist ein bedeutendes Exportgut der Schweiz – in diesem Sinne sehen wir das Konzert auch als Beitrag zur Förderung des interkulturellen Austauschs.
URL:https://www.schweizer-verein-berlin.de/event/konzert-roseyworld/
LOCATION:Schlosshotel Berlin\, Brahmsstraße 10\, Berlin\, 14193
ORGANIZER;CN="Patrick Z%C3%BCrcher%2C Institut le Rosey":MAILTO:pzurcher@rosey.ch
END:VEVENT
END:VCALENDAR