BEGIN:VCALENDAR
VERSION:2.0
PRODID:-//Schweizer Verein Berlin - ECPv6.11.2.1//NONSGML v1.0//EN
CALSCALE:GREGORIAN
METHOD:PUBLISH
X-ORIGINAL-URL:https://www.schweizer-verein-berlin.de
X-WR-CALDESC:Veranstaltungen für Schweizer Verein Berlin
REFRESH-INTERVAL;VALUE=DURATION:PT1H
X-Robots-Tag:noindex
X-PUBLISHED-TTL:PT1H
BEGIN:VTIMEZONE
TZID:Europe/Berlin
BEGIN:DAYLIGHT
TZOFFSETFROM:+0100
TZOFFSETTO:+0200
TZNAME:CEST
DTSTART:20250330T010000
END:DAYLIGHT
BEGIN:STANDARD
TZOFFSETFROM:+0200
TZOFFSETTO:+0100
TZNAME:CET
DTSTART:20251026T010000
END:STANDARD
END:VTIMEZONE
BEGIN:VEVENT
DTSTART;TZID=Europe/Berlin:20250718T200000
DTEND;TZID=Europe/Berlin:20250718T200000
DTSTAMP:20260425T205651
CREATED:20250727T100903Z
LAST-MODIFIED:20250727T100903Z
UID:2805-1752868800-1752868800@www.schweizer-verein-berlin.de
SUMMARY:PUBLIC VIEWING UEFA-Fussball-Europameisterschaft der Frauen 2025
DESCRIPTION:Die Botschafterin der Schweiz in Deutschland Livia Leu lädt alle Mitgliederinnen und Mitglieder des Schweizer Vereins anlässlich der Viertelfinale Spanien-Schweiz der \nUEFA-Fussball-Europameisterschaft der Frauen 2025 in der Schweiz \nam 18. Juli 2025 ab 20:00 Uhr \nherzlich zu einem ungezwungenen Fussballabend ein. \nDer Anzahl Plätze ist begrenzt. Anmeldebestätigungen werden am Mittwoch 16. verschickt. \nAb 20:00 Uhr gibt es Raclette. Das Spiel beginnt um 21:00 Uhr. \nResidenz der Schweizerischen Botschaft\, Otto-von-Bismarck-Allee 4 (Altbau)\, 10557 Berlin \nberlin.politik@eda.admin.ch \n(Hinweis: es sind keine Parkplätze bei der Botschaft vorhanden).
URL:https://www.schweizer-verein-berlin.de/event/public-viewing-uefa-fussball-europameisterschaft-der-frauen-2025/
END:VEVENT
END:VCALENDAR