BEGIN:VCALENDAR
VERSION:2.0
PRODID:-//Schweizer Verein Berlin - ECPv6.11.2.1//NONSGML v1.0//EN
CALSCALE:GREGORIAN
METHOD:PUBLISH
X-WR-CALNAME:Schweizer Verein Berlin
X-ORIGINAL-URL:https://www.schweizer-verein-berlin.de
X-WR-CALDESC:Veranstaltungen für Schweizer Verein Berlin
REFRESH-INTERVAL;VALUE=DURATION:PT1H
X-Robots-Tag:noindex
X-PUBLISHED-TTL:PT1H
BEGIN:VTIMEZONE
TZID:Europe/Berlin
BEGIN:DAYLIGHT
TZOFFSETFROM:+0100
TZOFFSETTO:+0200
TZNAME:CEST
DTSTART:20260329T010000
END:DAYLIGHT
BEGIN:STANDARD
TZOFFSETFROM:+0200
TZOFFSETTO:+0100
TZNAME:CET
DTSTART:20261025T010000
END:STANDARD
END:VTIMEZONE
BEGIN:VEVENT
DTSTART;TZID=Europe/Berlin:20260118T193000
DTEND;TZID=Europe/Berlin:20260118T193000
DTSTAMP:20260425T122445
CREATED:20260313T113202Z
LAST-MODIFIED:20260313T113202Z
UID:3086-1768764600-1768764600@www.schweizer-verein-berlin.de
SUMMARY:KONZERT - Mattiu
DESCRIPTION:Am SONNTAG\, 18. JANUAR\, gastiert Mattiu in Berlin. Mit seiner unverwechselbaren Stimme und seinen berührenden Songs bringt der 27-jährige den Geist der Bündner Berge auf die Bühne. Er singt in seiner Muttersprache Rätoromanisch. Musikalisch wie inhaltlich steht er für die kulturelle Vielfalt unseres Landes. Mattiu verbindet Musik\, Bilder und Natur zu einem fesselnden Live-Erlebnis. Im Oktober 2025 erschien sein zweites Soloalbum „Aura“\, mit dem er sich zunehmend als eine der spannendsten neuen Stimmen der Schweizer Musikszene etabliert.\nWir verlosen 2 x 2 Tickets für das Konzert\, das ab 19.45 Uhr im Monarch Club am Kotti stattfindet. Bei Interesse meldet Euch bitte ebenfalls am 7. Januar 2026 zwischen 10 und 11 Uhr unter 030 / 32304878 bei Angela. \n  \nDIMANCHE 18 JANVIER\, Mattiu se produira à Berlin. Avec sa voix unique et ses chansons émouvantes\, ce jeune homme de 27 ans fait revivre sur scène l’esprit des montagnes des Grisons. Il chante dans sa langue maternelle\, le romanche. Tant sur le plan musical que thématique\, il incarne la diversité culturelle de notre pays. Mattiu mêle musique\, images et nature pour offrir une expérience live captivante. En octobre 2025 est sorti son deuxième album solo\, « Aura »\, grâce auquel il s’impose de plus en plus comme l’une des nouvelles voix les plus passionnantes de la scène musicale suisse.\nNous tirons au sort 2 x 2 billets pour le concert qui aura lieu à partir de 19h45 au Monarch Club\, au Kotti. Si vous êtes intéressé·e\, veuillez également contacter Angela le 7 janvier 2026 entre 10h et 11h au 030 / 32304878. \n 
URL:https://www.schweizer-verein-berlin.de/event/konzert-mattiu/
LOCATION:Monarch Club\, Skalitzer Straße 134\, Berlin\, 10999\, Germany
END:VEVENT
END:VCALENDAR