BEGIN:VCALENDAR
VERSION:2.0
PRODID:-//Schweizer Verein Berlin - ECPv6.11.2.1//NONSGML v1.0//EN
CALSCALE:GREGORIAN
METHOD:PUBLISH
X-WR-CALNAME:Schweizer Verein Berlin
X-ORIGINAL-URL:https://www.schweizer-verein-berlin.de
X-WR-CALDESC:Veranstaltungen für Schweizer Verein Berlin
REFRESH-INTERVAL;VALUE=DURATION:PT1H
X-Robots-Tag:noindex
X-PUBLISHED-TTL:PT1H
BEGIN:VTIMEZONE
TZID:Europe/Berlin
BEGIN:DAYLIGHT
TZOFFSETFROM:+0100
TZOFFSETTO:+0200
TZNAME:CEST
DTSTART:20260329T010000
END:DAYLIGHT
BEGIN:STANDARD
TZOFFSETFROM:+0200
TZOFFSETTO:+0100
TZNAME:CET
DTSTART:20261025T010000
END:STANDARD
END:VTIMEZONE
BEGIN:VEVENT
DTSTART;TZID=Europe/Berlin:20260222T140000
DTEND;TZID=Europe/Berlin:20260222T140000
DTSTAMP:20260421T124842
CREATED:20260206T165011Z
LAST-MODIFIED:20260206T165011Z
UID:2944-1771768800-1771768800@www.schweizer-verein-berlin.de
SUMMARY:BESUCH der AUSSTELLUNG PETRI BERLIN
DESCRIPTION:Am Petriplatz gibt es mit dem PETRI Berlin seit Juni 2025 eine Ausstellung\, die uns in das Berlin vor 800 Jahren einlädt. Im Museum\, das auf den Ruinen einer mittelalterlichen Lateinschule errichtet wurde\, wird die Arbeit von Archäologen\, Restauratoren und anderen Forschenden zur Erforschung der Geschichte Berlins erlebbar. Auch sind in gläsernen Werkstätten Prozesse der Fundbearbeitung zu sehen\, die sonst hinter verschlossenen Türen stattfinden. Als besonderes Highlight gilt der Berliner Skulpturenfund\, der 2010 weltweit Schlagzeilen machte. Die Kunstwerke galten lange Zeit als verschollen und konnten in einem mit Bombenschutt verfüllten Keller in der Nähe des Roten Rathauses geborgen werden.
URL:https://www.schweizer-verein-berlin.de/event/besuch-der-ausstellung-petri-berlin/
LOCATION:Petri Museum\, Gertraudenstr. 8\, Berlin\, Bundesstaat wählen:\, 10178\, Germany
ORGANIZER;CN="Angela Schulze":MAILTO:a.schulze@schweizer-verein-berlin.de
END:VEVENT
END:VCALENDAR