BEGIN:VCALENDAR
VERSION:2.0
PRODID:-//Schweizer Verein Berlin - ECPv6.11.2.1//NONSGML v1.0//EN
CALSCALE:GREGORIAN
METHOD:PUBLISH
X-WR-CALNAME:Schweizer Verein Berlin
X-ORIGINAL-URL:https://www.schweizer-verein-berlin.de
X-WR-CALDESC:Veranstaltungen für Schweizer Verein Berlin
REFRESH-INTERVAL;VALUE=DURATION:PT1H
X-Robots-Tag:noindex
X-PUBLISHED-TTL:PT1H
BEGIN:VTIMEZONE
TZID:Europe/Berlin
BEGIN:DAYLIGHT
TZOFFSETFROM:+0100
TZOFFSETTO:+0200
TZNAME:CEST
DTSTART:20260329T010000
END:DAYLIGHT
BEGIN:STANDARD
TZOFFSETFROM:+0200
TZOFFSETTO:+0100
TZNAME:CET
DTSTART:20261025T010000
END:STANDARD
END:VTIMEZONE
BEGIN:VEVENT
DTSTART;TZID=Europe/Berlin:20260304T180000
DTEND;TZID=Europe/Berlin:20260304T210000
DTSTAMP:20260421T124844
CREATED:20260206T173457Z
LAST-MODIFIED:20260318T212821Z
UID:2967-1772647200-1772658000@www.schweizer-verein-berlin.de
SUMMARY:STAMMTISCH – TABLE DES HABITUÉ*ES
DESCRIPTION:Wir treffen uns am 4. März in den Tiroler Stuben\, Heerstraße 137\, 14055 Berlin. \n\nWie immer gilt: Auch Nicht-Mitglieder sind herzlich willkommen. Unser Erkennungszeichen: ein Helvetia-Fähnchen auf dem Tisch. Wir bitten um Anmeldung bei Roland Weder. \n  \nTABLE DES HABITUÉ:ES le MERCREDI 4 MARS 2026\, à partir de 18 heures\nNous nous retrouverons ce mois de mars à partir de 18 heures au Café Tiroler Stuben\, Heerstraße 137\, 14055 Berlin.  \nComme toujours\, les non-membres sont également les bienvenus.  \nNotre signe de reconnaissance : un petit drapeau Helvetia sur la table. Nous vous prions de vous inscrire par email auprès de Roland Weder. 
URL:https://www.schweizer-verein-berlin.de/event/2967/
LOCATION:Tiroler Stuben\, Heerstraße 137\, Berlin\, Bundesstaat wählen:\, 14055\, Germany
CATEGORIES:Stammtisch
ORGANIZER;CN="Roland Weder":MAILTO:rweder@aol.com
END:VEVENT
END:VCALENDAR