BEGIN:VCALENDAR
VERSION:2.0
PRODID:-//Schweizer Verein Berlin - ECPv6.11.2.1//NONSGML v1.0//EN
CALSCALE:GREGORIAN
METHOD:PUBLISH
X-WR-CALNAME:Schweizer Verein Berlin
X-ORIGINAL-URL:https://www.schweizer-verein-berlin.de
X-WR-CALDESC:Veranstaltungen für Schweizer Verein Berlin
REFRESH-INTERVAL;VALUE=DURATION:PT1H
X-Robots-Tag:noindex
X-PUBLISHED-TTL:PT1H
BEGIN:VTIMEZONE
TZID:Europe/Berlin
BEGIN:DAYLIGHT
TZOFFSETFROM:+0100
TZOFFSETTO:+0200
TZNAME:CEST
DTSTART:20250330T010000
END:DAYLIGHT
BEGIN:STANDARD
TZOFFSETFROM:+0200
TZOFFSETTO:+0100
TZNAME:CET
DTSTART:20251026T010000
END:STANDARD
END:VTIMEZONE
BEGIN:VEVENT
DTSTART;TZID=Europe/Berlin:20250604T180000
DTEND;TZID=Europe/Berlin:20250604T210000
DTSTAMP:20260425T210429
CREATED:20241120T080222Z
LAST-MODIFIED:20241120T081707Z
UID:2645-1749060000-1749070800@www.schweizer-verein-berlin.de
SUMMARY:STAMMTISCH – TABLE DES HABITUÉ*ES
DESCRIPTION:STAMMTISCH am MITTWOCH\, 4. JUNI 2025\, ab 18 Uhr \nWir treffen uns – wie gewohnt – ab 18 Uhr im Café MOLA am Wittenbergplatz 3a\, 10789 Berlin. Der Eingang zum Lokal befindet sich auf der Ecke. Wie immer gilt: Auch Nicht-Mitglieder sind herzlich willkommen. Unser Erkennungszeichen: ein Helvetia-Fähnchen auf dem Tisch. Wir bitten um Anmeldung bei Rolf J. Erler. \n  \nTABLE DES HABITUÉ:ES le MERCREDI 4 JUIN 2025\, à partir de 18 heures\nNous nous retrouverons – comme d’habitude – à partir de 18 heures au Café MOLA\, Wittenbergplatz 3a\, 10789 Berlin. L’entrée du local se trouve au coin de la rue. Comme toujours\, les non-membres sont également les bienvenus. Notre signe de reconnaissance : un petit drapeau Helvetia sur la table. Nous vous prions de vousinscrire par email auprès de Rolf J. Erler.
URL:https://www.schweizer-verein-berlin.de/event/stammtisch-table-des-habituees-16/
LOCATION:Café Mola\, Wittenbergplatz 3a\, Berlin\, 10789
CATEGORIES:Stammtisch
ORGANIZER;CN="Rolf-Joachim Erler":MAILTO:rj.erler@schweizer-verein-berlin.de
END:VEVENT
BEGIN:VEVENT
DTSTART;TZID=Europe/Berlin:20250608T200000
DTEND;TZID=Europe/Berlin:20250608T233000
DTSTAMP:20260425T210429
CREATED:20250609T124800Z
LAST-MODIFIED:20250609T124800Z
UID:2734-1749412800-1749425400@www.schweizer-verein-berlin.de
SUMMARY:Nacht der Offenen Kirche - „Bach-nach-Acht“
DESCRIPTION:Am PFINGSTSONNTAG\, 8. Juni 2025\, lädt die Französische Kirche zu Berlin zur„Nacht der Offenen Kirche“ ein. Von 20 bis 24 Uhr stehen dreißigminütige Konzerte unter dem Titel „Bach-nach-Acht“ auf dem Programm. Und jeweils zur vollen Stunde spielen KMD Kilian Nauhaus und Dr. Christoph Förste an der Orgel. Zwischen den musikalischen Beiträgen können die Gäste Leipziger Leckereien und Kaffee genießen.Der Eintritt ist frei\, eine Anmeldung nicht erforderlich.
URL:https://www.schweizer-verein-berlin.de/event/nacht-der-offenen-kirche-bach-nach-acht/
LOCATION:Französische Kirche zu Berlin\, Französischer Dom\, Gendarmenmarkt 5\, Berlin\, 10117
END:VEVENT
BEGIN:VEVENT
DTSTART;TZID=Europe/Berlin:20250615T134500
DTEND;TZID=Europe/Berlin:20250615T134500
DTSTAMP:20260425T210429
CREATED:20250609T125858Z
LAST-MODIFIED:20250609T131454Z
UID:2739-1749995100-1749995100@www.schweizer-verein-berlin.de
SUMMARY:BESUCH DER AUSSTELLLUNG „MENSCH BERLIN“
DESCRIPTION:In diesem Jahr wird das 40. Jubiläum der Stiftung Kunstforum Berliner Volksbank gefeiert. Gegründet im geteilten Berlin des Jahres 1985 unter dem Leitmotiv „Bilder vom Menschen – Bilder für Menschen“\, bereichert die Sammlung die Berliner Kunstszene von Beginn an. Heute umfasst sie über 1.500 Werke von rund 200 Künstler:innen. Der Schwerpunkt liegt auf gegenständlicher deutscher Kunst nach 1950\, insbesondere vor und nach der bewegten Zeit der Wiedervereinigung. Neben den Highlights der Sammlung werden auch weniger oft gezeigte Werke zu sehen sein. Wir treffen uns um 13.45 Uhr am Kaiserdamm 105\, 14057 Berlin. Rudy Stüssi wird uns durch die Sammlung führen. Der Eintritt beträgt 5 Euro pro Person. Im Anschluss lassen wir den Nachmittag in einem Café in der Nähe ausklingen. Bei Interesse meldet Euch bitte bei rudolfstussi@hotmail.com oder bei a.schulze@schweizer-verein-berlin.de.
URL:https://www.schweizer-verein-berlin.de/event/besuch-der-ausstellung-mensch-berlin/
LOCATION:Stiftung Kunstforum Berliner Volksbank\, Kaiserdamm 105\, Berlin\, 14057
END:VEVENT
BEGIN:VEVENT
DTSTART;TZID=Europe/Berlin:20250616T173000
DTEND;TZID=Europe/Berlin:20250616T193000
DTSTAMP:20260425T210429
CREATED:20250610T153741Z
LAST-MODIFIED:20250610T153741Z
UID:2755-1750095000-1750102200@www.schweizer-verein-berlin.de
SUMMARY:„TYPISCH EMIL – VOM LOSLASSEN UND NEUANFANGEN“
DESCRIPTION:Der Dokumentarfilm „TYPISCH EMIL“ ist mehr als nur eine Hommage an den vielseitigen Komiker\, es ist ein inspirierendes Porträt eines Mannes\, dessen Humor\, Sprache und künstlerische Vision Generationen geprägt haben. Emil besitzt eine unnachahmliche Art\, das Alltägliche wahrzunehmen und in außergewöhnliche und zeitlose Momente der Komik zu verwandeln. Emil war übrigens auch in der ehemaligen DDR äußerst beliebt\, Schon 1976 hatte er seinen ersten Auftritt dort. Zum Filmtrailer geht es hier entlang: https://www.youtube.com/watch?v=AjkcI0TXPg4 \nWir verlosen einmal zwei Tickets für die Preview am Montag\, 16. Juni 2025\, 17.30 Uhr\, im Berliner Kantkino im Beisein von Emil sowie 3 x 2 weitere Tickets für einen Kinobesuch zum Wunschtermin https://www.filmweltverleih.de/cinema/finder/typisch-emil \nWer dabei sein möchte\, meldet sich bitte am Freitag\, 6. Juni\, zwischen 10 und 12 Uhr\,unter 030 / 32304878 (Angela).
URL:https://www.schweizer-verein-berlin.de/event/typisch-emil-vom-loslassen-und-neuanfangen/
LOCATION:Kant Kino\, Kantstr. 54\, Berlin\, 10627
END:VEVENT
BEGIN:VEVENT
DTSTART;TZID=Europe/Berlin:20250617T120000
DTEND;TZID=Europe/Berlin:20250617T130000
DTSTAMP:20260425T210429
CREATED:20250609T132903Z
LAST-MODIFIED:20250609T133123Z
UID:2746-1750161600-1750165200@www.schweizer-verein-berlin.de
SUMMARY:EINLADUNG ZUM WEBINAR „Zivilstand – Durch den Lebenszyklus mit den konsularischen Diensten“
DESCRIPTION:Heirat\, Geburt oder Todesfall – was ist bei diesen Ereignissen als Auslandschweizer:in zu beachten? Wo gibt es die notwendigen Informationen? Um diese und weitere Fragen zu beantworten\, laden die Konsularische Direktion des EDA\, die Auslandschweizer-Organisation (ASO)\, SwissCommunity und Soliswiss zum Infogespräch ein. Die Teilnahme ist kostenlos und die Informationen werden nach der Veranstaltung auf dieser Website zugänglich sein. \n\nWebinar auf Deutsch: 17. Juni\, 12.00 Uhr (Schweizer Zeit): https://www.eventmediaservice.ch/zivilstandwesen\nWebinar auf Französisch: 17. Juni 14.00 Uhr (Schweizer Zeit) https://www.eventmediaservice.ch/etat-civil
URL:https://www.schweizer-verein-berlin.de/event/einladung-zum-webinar-zivilstand-durch-den-lebenszyklus-mit-den-konsularischen-diensten/
LOCATION:online
END:VEVENT
BEGIN:VEVENT
DTSTART;TZID=Europe/Berlin:20250617T140000
DTEND;TZID=Europe/Berlin:20250617T150000
DTSTAMP:20260425T210429
CREATED:20250609T134240Z
LAST-MODIFIED:20250609T134240Z
UID:2751-1750168800-1750172400@www.schweizer-verein-berlin.de
SUMMARY:INVITATION au WEBINAIRE « État civil – Naviguer dans le cycle de vie avec les services consulaires »
DESCRIPTION:Mariage\, naissance ou décès : à quoi les citoyens suisses de l’étranger doivent-ils faire attention lors de ces événements ? Où trouver les informations nécessaires ? Pour répondre à ces questions et à d’autres\, la Direction consulaire du DFAE\, l’Organisation des Suisses de l’étranger (OSE)\, SwissCommunity et Soliswiss vous invitent à une séance d’information. La participation est gratuite et les informations seront disponibles sur ce site web après l’événement.\nWebinaire en allemand : 17 juin\, 12 h (heure suisse) : https://www.eventmediaservice.ch/zivilstandwesen\nWebinaire en français : 17 juin\, 14 h (heure suisse) : https://www.eventmediaservice.ch/etat-civil \n 
URL:https://www.schweizer-verein-berlin.de/event/invitation-au-webinaire-etat-civil-naviguer-dans-le-cycle-de-vie-avec-les-services-consulaires/
LOCATION:online
END:VEVENT
BEGIN:VEVENT
DTSTART;TZID=Europe/Berlin:20250619T190000
DTEND;TZID=Europe/Berlin:20250619T190000
DTSTAMP:20260425T210429
CREATED:20250610T161617Z
LAST-MODIFIED:20250610T161617Z
UID:2771-1750359600-1750359600@www.schweizer-verein-berlin.de
SUMMARY:KONZERT ROSEYWORLD
DESCRIPTION:Im Rahmen dieses exklusiven Abends präsentieren junge Talente ein anspruchsvolles klassisches Konzertprogramm. Im Anschluss laden wir zum Gedankenaustausch über die Zukunft der Bildung ein. Gastgeber sind drei renommierte unabhängige Schweizer Bildungsinstitutionen: Institut Le Rosey\, Le Régent International School und die JFK International School. \nDiese Veranstaltung ist nicht nur eine Hommage an die klassische Musik\, sondern auch eine Gelegenheit\, das Schweizer Bildungsverständnis und dessen Werte mit Familien\, Fachleuten und kulturell interessierten Persönlichkeiten in Hamburg und Berlin zu teilen. Bildung ist ein bedeutendes Exportgut der Schweiz – in diesem Sinne sehen wir das Konzert auch als Beitrag zur Förderung des interkulturellen Austauschs.
URL:https://www.schweizer-verein-berlin.de/event/konzert-roseyworld/
LOCATION:Schlosshotel Berlin\, Brahmsstraße 10\, Berlin\, 14193
ORGANIZER;CN="Patrick Z%C3%BCrcher%2C Institut le Rosey":MAILTO:pzurcher@rosey.ch
END:VEVENT
BEGIN:VEVENT
DTSTART;TZID=Europe/Berlin:20250620T190000
DTEND;TZID=Europe/Berlin:20250620T190000
DTSTAMP:20260425T210429
CREATED:20250610T154202Z
LAST-MODIFIED:20250610T154202Z
UID:2759-1750446000-1750446000@www.schweizer-verein-berlin.de
SUMMARY:CD RELEASE-KONZERT MIT LUCAS DORADO
DESCRIPTION:Schon mehrfach haben wir Tickets für die Auftritte von Lucas Dorado und seiner Band verlost. Heute verweisen wir auf einen besonderen Anlass\, denn in Kürze veröffentlicht Lucas seine erste CD unter eigenem Namen. Einen Vorgeschmack darauf gibt es hier: https://bit.ly/OutdoorVideo. \nDer Eintritt ist frei. Die Plätze sind limitiert\, eine Reservierung wird empfohlen. Hier geht es zur Anmeldung: https://www.iai.spk-berlin.de/veranstaltungen/veranstaltung/20-06-2025_el-sueno-der-traum.html \nOrt: Ibero-Amerikanisches Institut\, Potsdamer Straße 37\, 10785 Berlin
URL:https://www.schweizer-verein-berlin.de/event/cd-release-konzert-mit-lucas-dorado/
LOCATION:Ibero-Amerikanisches Institut\, Potsdamer Straße 37\, Berlin\, 10785
END:VEVENT
BEGIN:VEVENT
DTSTART;TZID=Europe/Berlin:20250620T190000
DTEND;TZID=Europe/Berlin:20250620T190000
DTSTAMP:20260425T210429
CREATED:20250610T170950Z
LAST-MODIFIED:20250610T170950Z
UID:2780-1750446000-1750446000@www.schweizer-verein-berlin.de
SUMMARY:JASSABEND / SOIREE JASS
DESCRIPTION:JASSABEND am FREITAG\, 20. Juni\, ab 19 Uhr\, im Café Mola. \nWer beim Kartenspielen dabei sein möchte\, meldet sich bitte per E-Mail an Mariann Leuenberger leuenberg@gmx.net. \n  \nSOIRÉE JASS vendredi 20 juin\, à partir de 19 heures\, au café Mola \nLes personnes qui souhaitent participer à cette soirée sont priées de s’annoncer par e-mail à Mariann Leuenberger leuenberg@gmx.net.
URL:https://www.schweizer-verein-berlin.de/event/jassabend-soiree-jass-4/
LOCATION:Café Mola\, Wittenbergplatz 3a\, Berlin\, 10789
ORGANIZER;CN="Mariann Leuenberger":MAILTO:leuenberg@gmx.net
END:VEVENT
END:VCALENDAR