BEGIN:VCALENDAR
VERSION:2.0
PRODID:-//Schweizer Verein Berlin - ECPv6.11.2.1//NONSGML v1.0//EN
CALSCALE:GREGORIAN
METHOD:PUBLISH
X-WR-CALNAME:Schweizer Verein Berlin
X-ORIGINAL-URL:https://www.schweizer-verein-berlin.de
X-WR-CALDESC:Veranstaltungen für Schweizer Verein Berlin
REFRESH-INTERVAL;VALUE=DURATION:PT1H
X-Robots-Tag:noindex
X-PUBLISHED-TTL:PT1H
BEGIN:VTIMEZONE
TZID:Europe/Berlin
BEGIN:DAYLIGHT
TZOFFSETFROM:+0100
TZOFFSETTO:+0200
TZNAME:CEST
DTSTART:20250330T010000
END:DAYLIGHT
BEGIN:STANDARD
TZOFFSETFROM:+0200
TZOFFSETTO:+0100
TZNAME:CET
DTSTART:20251026T010000
END:STANDARD
END:VTIMEZONE
BEGIN:VEVENT
DTSTART;TZID=Europe/Berlin:20250702T180000
DTEND;TZID=Europe/Berlin:20250702T210000
DTSTAMP:20260425T192517
CREATED:20241120T080255Z
LAST-MODIFIED:20241120T081644Z
UID:2648-1751479200-1751490000@www.schweizer-verein-berlin.de
SUMMARY:STAMMTISCH – TABLE DES HABITUÉ*ES
DESCRIPTION:STAMMTISCH am MITTWOCH\, 2. JULI 2025\, ab 18 Uhr \nWir treffen uns – wie gewohnt – ab 18 Uhr im Café MOLA am Wittenbergplatz 3a\, 10789 Berlin. Der Eingang zum Lokal befindet sich auf der Ecke. Wie immer gilt: Auch Nicht-Mitglieder sind herzlich willkommen. Unser Erkennungszeichen: ein Helvetia-Fähnchen auf dem Tisch. Wir bitten um Anmeldung bei Rolf J. Erler. \n  \nTABLE DES HABITUÉ:ES le MERCREDI 2 JUILLET 2025\, à partir de 18 heures\nNous nous retrouverons – comme d’habitude – à partir de 18 heures au Café MOLA\, Wittenbergplatz 3a\, 10789 Berlin. L’entrée du local se trouve au coin de la rue. Comme toujours\, les non-membres sont également les bienvenus. Notre signe de reconnaissance : un petit drapeau Helvetia sur la table. Nous vous prions de vousinscrire par email auprès de Rolf J. Erler.
URL:https://www.schweizer-verein-berlin.de/event/stammtisch-table-des-habituees-17/
LOCATION:Café Mola\, Wittenbergplatz 3a\, Berlin\, 10789
CATEGORIES:Stammtisch
ORGANIZER;CN="Rolf-Joachim Erler":MAILTO:rj.erler@schweizer-verein-berlin.de
END:VEVENT
BEGIN:VEVENT
DTSTART;TZID=Europe/Berlin:20250703T190000
DTEND;TZID=Europe/Berlin:20250703T190000
DTSTAMP:20260425T192517
CREATED:20250727T095945Z
LAST-MODIFIED:20250727T095945Z
UID:2802-1751569200-1751569200@www.schweizer-verein-berlin.de
SUMMARY:JASSABEND / SOIREE JASS
DESCRIPTION:JASSABEND am FREITAG\, 20. Juni\, ab 19 Uhr\, im Café Mola. \nWer beim Kartenspielen dabei sein möchte\, meldet sich bitte per E-Mail an Mariann Leuenberger leuenberg@gmx.net. \n  \nSOIRÉE JASS vendredi 20 juin\, à partir de 19 heures\, au café Mola \nLes personnes qui souhaitent participer à cette soirée sont priées de s’annoncer par e-mail à Mariann Leuenberger leuenberg@gmx.net.
URL:https://www.schweizer-verein-berlin.de/event/jassabend-soiree-jass-5/
END:VEVENT
BEGIN:VEVENT
DTSTART;TZID=Europe/Berlin:20250713T134500
DTEND;TZID=Europe/Berlin:20250713T134500
DTSTAMP:20260425T192517
CREATED:20250610T154940Z
LAST-MODIFIED:20250610T154940Z
UID:2763-1752414300-1752414300@www.schweizer-verein-berlin.de
SUMMARY:ZEITREISE ins alte Tiergartenviertel
DESCRIPTION:Mit seinen Museen\, Bibliotheken und der Philharmonie ist das Berliner Kulturforum ein Ort der Künste\, mit modernen Architekturikonen und auch Freiflächen wie der Piazetta vor der Gemäldegalerie. Das sah vor 100 Jahren noch ganz anders aus; das Viertel war damals eines der elegantesten Wohn- und Geschäftsquartiere\, hier blühte eine Welt aus Kunst\, Mode und Mäzenen. Die Kunstbibliothek zeigt aktuell\, wie wichtig die Straßenzüge um die Matthäikirche einst waren. Und wo z.B. Marlene Dietrich ihre Hosen kaufte. Kurzbiografien ehemals berühmter Anwohner:innen zeichnen das Bild einer faszinierenden Kreativszene und Kultur-Bohème – und deren brutale Zerstörung nach 1933. Wir treffen uns um 13.45 Uhr vor dem Ausstellungsraum am Matthäikirchplatz 6-8 \, 10785 Berlin. Der Eintritt beträgt 6 Euro. Anmeldungen nimmt a.schulze@schweizer-verein-berlin.de entgegen.
URL:https://www.schweizer-verein-berlin.de/event/zeitreise-ins-alte-tiergartenviertel/
LOCATION:Kunstbibliothek\, Matthäikirchplatz 6\, 10785
ORGANIZER;CN="Angela Schulze":MAILTO:a.schulze@schweizer-verein-berlin.de
END:VEVENT
BEGIN:VEVENT
DTSTART;TZID=Europe/Berlin:20250718T200000
DTEND;TZID=Europe/Berlin:20250718T200000
DTSTAMP:20260425T192517
CREATED:20250727T100903Z
LAST-MODIFIED:20250727T100903Z
UID:2805-1752868800-1752868800@www.schweizer-verein-berlin.de
SUMMARY:PUBLIC VIEWING UEFA-Fussball-Europameisterschaft der Frauen 2025
DESCRIPTION:Die Botschafterin der Schweiz in Deutschland Livia Leu lädt alle Mitgliederinnen und Mitglieder des Schweizer Vereins anlässlich der Viertelfinale Spanien-Schweiz der \nUEFA-Fussball-Europameisterschaft der Frauen 2025 in der Schweiz \nam 18. Juli 2025 ab 20:00 Uhr \nherzlich zu einem ungezwungenen Fussballabend ein. \nDer Anzahl Plätze ist begrenzt. Anmeldebestätigungen werden am Mittwoch 16. verschickt. \nAb 20:00 Uhr gibt es Raclette. Das Spiel beginnt um 21:00 Uhr. \nResidenz der Schweizerischen Botschaft\, Otto-von-Bismarck-Allee 4 (Altbau)\, 10557 Berlin \nberlin.politik@eda.admin.ch \n(Hinweis: es sind keine Parkplätze bei der Botschaft vorhanden).
URL:https://www.schweizer-verein-berlin.de/event/public-viewing-uefa-fussball-europameisterschaft-der-frauen-2025/
END:VEVENT
BEGIN:VEVENT
DTSTART;TZID=Europe/Berlin:20250729T193000
DTEND;TZID=Europe/Berlin:20250729T193000
DTSTAMP:20260425T192517
CREATED:20250727T093643Z
LAST-MODIFIED:20250727T094214Z
UID:2792-1753817400-1753817400@www.schweizer-verein-berlin.de
SUMMARY:SCHWEIZER SOMMERFEST
DESCRIPTION:Das Literarische Colloquium Berlin lädt zum traditionellen Schweizer Sommerfest. Es lesen Meral Kureyshi aus „Im Meer waren wir nie“ und Nora Osagiobare aus „Daily Soap“. Musikalisch untermalt wird der Abend von der R&B- und Hip-Hop-Songwriterin Produzentin und Sängerin Matondo aus Zürich. Weitere Infos dazu gibt es hier.
URL:https://www.schweizer-verein-berlin.de/event/schweizer-sommerfest/
LOCATION:Am Sandwerder 5 · 14109 Berlin\, Am Sandwerder 5\, Berlin\, 14109
END:VEVENT
END:VCALENDAR