BEGIN:VCALENDAR
VERSION:2.0
PRODID:-//Schweizer Verein Berlin - ECPv6.11.2.1//NONSGML v1.0//EN
CALSCALE:GREGORIAN
METHOD:PUBLISH
X-WR-CALNAME:Schweizer Verein Berlin
X-ORIGINAL-URL:https://www.schweizer-verein-berlin.de
X-WR-CALDESC:Veranstaltungen für Schweizer Verein Berlin
REFRESH-INTERVAL;VALUE=DURATION:PT1H
X-Robots-Tag:noindex
X-PUBLISHED-TTL:PT1H
BEGIN:VTIMEZONE
TZID:Europe/Berlin
BEGIN:DAYLIGHT
TZOFFSETFROM:+0100
TZOFFSETTO:+0200
TZNAME:CEST
DTSTART:20250330T010000
END:DAYLIGHT
BEGIN:STANDARD
TZOFFSETFROM:+0200
TZOFFSETTO:+0100
TZNAME:CET
DTSTART:20251026T010000
END:STANDARD
END:VTIMEZONE
BEGIN:VEVENT
DTSTART;TZID=Europe/Berlin:20250903T180000
DTEND;TZID=Europe/Berlin:20250903T210000
DTSTAMP:20260425T154500
CREATED:20241120T080732Z
LAST-MODIFIED:20241120T081618Z
UID:2651-1756922400-1756933200@www.schweizer-verein-berlin.de
SUMMARY:STAMMTISCH – TABLE DES HABITUÉ*ES
DESCRIPTION:STAMMTISCH am MITTWOCH\, 3. SEPTEMBER 2025\, ab 18 Uhr \nWir treffen uns – wie gewohnt – ab 18 Uhr im Café MOLA am Wittenbergplatz 3a\, 10789 Berlin. Der Eingang zum Lokal befindet sich auf der Ecke. Wie immer gilt: Auch Nicht-Mitglieder sind herzlich willkommen. Unser Erkennungszeichen: ein Helvetia-Fähnchen auf dem Tisch. Wir bitten um Anmeldung bei Rolf J. Erler. \n  \nTABLE DES HABITUÉ:ES le MERCREDI 3 SEPTEMBRE 2025\, à partir de 18 heures\nNous nous retrouverons – comme d’habitude – à partir de 18 heures au Café MOLA\, Wittenbergplatz 3a\, 10789 Berlin. L’entrée du local se trouve au coin de la rue. Comme toujours\, les non-membres sont également les bienvenus. Notre signe de reconnaissance : un petit drapeau Helvetia sur la table. Nous vous prions de vousinscrire par email auprès de Rolf J. Erler.
URL:https://www.schweizer-verein-berlin.de/event/2651/
LOCATION:Café Mola\, Wittenbergplatz 3a\, Berlin\, 10789
CATEGORIES:Stammtisch
ORGANIZER;CN="Rolf-Joachim Erler":MAILTO:rj.erler@schweizer-verein-berlin.de
END:VEVENT
BEGIN:VEVENT
DTSTART;TZID=Europe/Berlin:20250905T190000
DTEND;TZID=Europe/Berlin:20250905T190000
DTSTAMP:20260425T154500
CREATED:20250827T083355Z
LAST-MODIFIED:20250827T083355Z
UID:2848-1757098800-1757098800@www.schweizer-verein-berlin.de
SUMMARY:JASSABEND / SOIREE JASS
DESCRIPTION:JASSABEND am FREITAG\, 5. September\, ab 19 Uhr\, im Café Mola. \nWer beim Kartenspielen dabei sein möchte\, meldet sich bitte per E-Mail an Mariann Leuenberger leuenberg@gmx.net. \n  \nSOIRÉE JASS vendredi 5 septembre\, à partir de 19 heures\, au café Mola \nLes personnes qui souhaitent participer à cette soirée sont priées de s’annoncer par e-mail à Mariann Leuenberger leuenberg@gmx.net.
URL:https://www.schweizer-verein-berlin.de/event/jassabend-soiree-jass-6/
LOCATION:Café Mola\, Wittenbergplatz 3a\, Berlin\, 10789
ORGANIZER;CN="Mariann Leuenberger":MAILTO:leuenberg@gmx.net
END:VEVENT
BEGIN:VEVENT
DTSTART;TZID=Europe/Berlin:20250926T190000
DTEND;TZID=Europe/Berlin:20250926T190000
DTSTAMP:20260425T154500
CREATED:20250921T212651Z
LAST-MODIFIED:20250921T212849Z
UID:2885-1758913200-1758913200@www.schweizer-verein-berlin.de
SUMMARY:JASSABEND / SOIREE JASS
DESCRIPTION:JASSABEND am FREITAG\, 26. September\, ab 19 Uhr\, im Café Mola. \nWer beim Kartenspielen dabei sein möchte\, meldet sich bitte per E-Mail an Mariann Leuenberger leuenberg@gmx.net. \n  \nSOIRÉE JASS vendredi 5 septembre\, à partir de 19 heures\, au café Mola \nLes personnes qui souhaitent participer à cette soirée sont priées de s’annoncer par e-mail à Mariann Leuenberger leuenberg@gmx.net.
URL:https://www.schweizer-verein-berlin.de/event/2885/
LOCATION:Café Mola\, Wittenbergplatz 3a\, Berlin\, 10789
ORGANIZER;CN="Mariann Leuenberger":MAILTO:leuenberg@gmx.net
END:VEVENT
END:VCALENDAR