BEGIN:VCALENDAR
VERSION:2.0
PRODID:-//Schweizer Verein Berlin - ECPv6.11.2.1//NONSGML v1.0//EN
CALSCALE:GREGORIAN
METHOD:PUBLISH
X-ORIGINAL-URL:https://www.schweizer-verein-berlin.de
X-WR-CALDESC:Veranstaltungen für Schweizer Verein Berlin
REFRESH-INTERVAL;VALUE=DURATION:PT1H
X-Robots-Tag:noindex
X-PUBLISHED-TTL:PT1H
BEGIN:VTIMEZONE
TZID:Europe/Berlin
BEGIN:DAYLIGHT
TZOFFSETFROM:+0100
TZOFFSETTO:+0200
TZNAME:CEST
DTSTART:20250330T010000
END:DAYLIGHT
BEGIN:STANDARD
TZOFFSETFROM:+0200
TZOFFSETTO:+0100
TZNAME:CET
DTSTART:20251026T010000
END:STANDARD
END:VTIMEZONE
BEGIN:VEVENT
DTSTART;TZID=Europe/Berlin:20251001T180000
DTEND;TZID=Europe/Berlin:20251001T210000
DTSTAMP:20260425T154629
CREATED:20241120T080842Z
LAST-MODIFIED:20241120T081554Z
UID:2654-1759341600-1759352400@www.schweizer-verein-berlin.de
SUMMARY:STAMMTISCH – TABLE DES HABITUÉ*ES
DESCRIPTION:STAMMTISCH am MITTWOCH\, 1. OKTOBER 2025\, ab 18 Uhr \nWir treffen uns – wie gewohnt – ab 18 Uhr im Café MOLA am Wittenbergplatz 3a\, 10789 Berlin. Der Eingang zum Lokal befindet sich auf der Ecke. Wie immer gilt: Auch Nicht-Mitglieder sind herzlich willkommen. Unser Erkennungszeichen: ein Helvetia-Fähnchen auf dem Tisch. Wir bitten um Anmeldung bei Rolf J. Erler. \n  \nTABLE DES HABITUÉ:ES le MERCREDI 1er OCTOBRE 2025\, à partir de 18 heures\nNous nous retrouverons – comme d’habitude – à partir de 18 heures au Café MOLA\, Wittenbergplatz 3a\, 10789 Berlin. L’entrée du local se trouve au coin de la rue. Comme toujours\, les non-membres sont également les bienvenus. Notre signe de reconnaissance : un petit drapeau Helvetia sur la table. Nous vous prions de vousinscrire par email auprès de Rolf J. Erler.
URL:https://www.schweizer-verein-berlin.de/event/stammtisch-table-des-habituees-18/
LOCATION:Café Mola\, Wittenbergplatz 3a\, Berlin\, 10789
CATEGORIES:Stammtisch
ORGANIZER;CN="Rolf-Joachim Erler":MAILTO:rj.erler@schweizer-verein-berlin.de
END:VEVENT
BEGIN:VEVENT
DTSTART;TZID=Europe/Berlin:20251016T190000
DTEND;TZID=Europe/Berlin:20251016T190000
DTSTAMP:20260425T154629
CREATED:20251014T180638Z
LAST-MODIFIED:20251014T180638Z
UID:2890-1760641200-1760641200@www.schweizer-verein-berlin.de
SUMMARY:JASSABEND / SOIREE JASS
DESCRIPTION:JASSABEND am DONNERSTAG\, 16. Oktober\, ab 19 Uhr\, im Café Mola. \nWer beim Kartenspielen dabei sein möchte\, meldet sich bitte per E-Mail an Mariann Leuenberger leuenberg@gmx.net. \n  \nSOIRÉE JASS jeudi 16 octobre\, à partir de 19 heures\, au café Mola \nLes personnes qui souhaitent participer à cette soirée sont priées de s’annoncer par e-mail à Mariann Leuenberger leuenberg@gmx.net.
URL:https://www.schweizer-verein-berlin.de/event/jassabend-soiree-jass-7/
LOCATION:Café Mola\, Wittenbergplatz 3a\, Berlin\, 10789
ORGANIZER;CN="Mariann Leuenberger":MAILTO:leuenberg@gmx.net
END:VEVENT
BEGIN:VEVENT
DTSTART;TZID=Europe/Berlin:20251026T100000
DTEND;TZID=Europe/Berlin:20251026T180000
DTSTAMP:20260425T154629
CREATED:20251014T181517Z
LAST-MODIFIED:20251014T181517Z
UID:2896-1761472800-1761501600@www.schweizer-verein-berlin.de
SUMMARY:WANDERUNG durch den Grumsiner Buchenwald
DESCRIPTION:Der Buchenwald Grumsin nahe Angermünde wurde 2011 zum Unesco-Weltnaturerbe erklärt. Er gehört zum Bestand alter Buchenwälder und Buchenurwälder der Karpaten und anderer Regionen Europas. Durch die letzte Eiszeit entstanden\, finden sich in den Senken Moore und kleine Gewässer. Diese Kombination aus Mooren\, Seen und Buchen zeichnen den Wald aus. Wir fahren mit dem Zug nach Angermünde (z.B. ab Berlin Südkreuz – Angermünde: 10:24 – 11:29 Uhr)\, besteigen dort den Welterbe-Bus\, der uns nach Altkünkendorf fährt und laufen rund 1\,5 Stunden durch den Wald zum Louisenhof. Hier gibt es selbstgebackenen Kuchen und Kaffee\, doch ist die Scheune zugleich auch Ausstellungsraum des Künstlerehepaars Annette Tucholke und Christian Bonnet. Der Bus bringt uns zurück nach Angermünde\, wo wir uns noch umschauen wollen. Angermünde hat eine sehr schöne Altstadt\, die man anhand von Informationstafeln eigenständig erkunden kann. Wer dabei sein möchte\, meldet sich bitte bei Angela per Rückantwort auf diese Mail. Die Planung hat Vivian Kreft übernommen. HERZLICHEN DANK\, Vivian! \n 
URL:https://www.schweizer-verein-berlin.de/event/wanderung-durch-den-grumsiner-buchenwald/
ORGANIZER;CN="Angela Schulze":MAILTO:a.schulze@schweizer-verein-berlin.de
END:VEVENT
BEGIN:VEVENT
DTSTART;TZID=Europe/Berlin:20251029T203000
DTEND;TZID=Europe/Berlin:20251029T203000
DTSTAMP:20260425T154629
CREATED:20251026T124647Z
LAST-MODIFIED:20251026T124647Z
UID:2909-1761769800-1761769800@www.schweizer-verein-berlin.de
SUMMARY:Album Release-KONZERT „El Sueño" mit Lucas Dorado
DESCRIPTION:Schon häufiger haben wir auf Konzerte von Lucas Dorado hingewiesen. In Kürze gastiert er erneut in Berlin und wir freuen uns\, dass wir unter unseren Leserinnen und Lesern ein Ticket verlosen dürfen. Unter dem Titel „El Sueño“ (der Traum) lädt uns der schweizerisch-argentinische Künstler mit seiner Band dazu ein\, eine faszinierende Mischung aus Jazz und argentinischer Folklore zu entdecken. https://a-trane.de/programm/.
URL:https://www.schweizer-verein-berlin.de/event/album-release-konzert-el-sueno-mit-lucas-dorado/
LOCATION:A-Trane Jazzclub\, Bleibtreustraße 1\, Berlin\, 10623
ORGANIZER;CN="Angela Schulze":MAILTO:a.schulze@schweizer-verein-berlin.de
END:VEVENT
END:VCALENDAR