BEGIN:VCALENDAR
VERSION:2.0
PRODID:-//Schweizer Verein Berlin - ECPv6.11.2.1//NONSGML v1.0//EN
CALSCALE:GREGORIAN
METHOD:PUBLISH
X-WR-CALNAME:Schweizer Verein Berlin
X-ORIGINAL-URL:https://www.schweizer-verein-berlin.de
X-WR-CALDESC:Veranstaltungen für Schweizer Verein Berlin
REFRESH-INTERVAL;VALUE=DURATION:PT1H
X-Robots-Tag:noindex
X-PUBLISHED-TTL:PT1H
BEGIN:VTIMEZONE
TZID:Europe/Berlin
BEGIN:DAYLIGHT
TZOFFSETFROM:+0100
TZOFFSETTO:+0200
TZNAME:CEST
DTSTART:20250330T010000
END:DAYLIGHT
BEGIN:STANDARD
TZOFFSETFROM:+0200
TZOFFSETTO:+0100
TZNAME:CET
DTSTART:20251026T010000
END:STANDARD
END:VTIMEZONE
BEGIN:VEVENT
DTSTART;TZID=Europe/Berlin:20251101T110000
DTEND;TZID=Europe/Berlin:20251101T110000
DTSTAMP:20260425T122542
CREATED:20251014T182618Z
LAST-MODIFIED:20251014T182654Z
UID:2899-1761994800-1761994800@www.schweizer-verein-berlin.de
SUMMARY:KINO\, KINO! Matinee im Adria Filmtheater
DESCRIPTION:Am Sonntag\, 13. Juli\, traf sich eine kleine Gruppe zur Zeitreise ins alte Tiergartenviertel. Auch hierzu hat Margrit einen Beitrag verfasst. Wir haben Geschmack am Thema gefunden und möchten Euch nun gern für einen Kinobesuch begeistern. Regelmäßig findet im Adria Filmtheater eine Matinee mit dem Dokumentarfilm „Berlin\, wie es war“ aus den 1930er Jahren statt. Das Adria-Theater\, ein Flachbau von 1952\, steht heute an der Stelle\, wo die im Krieg zerstörten „Schloßpark-Lichtspiele“ ansässig waren. Besonders bequem sind die breiten\, roten Kinosessel\, die auch größer gewachsenen Menschen genügend Beinfreiheit geben. Zur Ticketbuchung geht es hier: Cineplex Buchung (Preise: Parkett: 9\,50 Euro\, Hochparkett: 11\,00 Euro). Nach dem Kinobesuch können wir gern noch zusammen in ein Etablissement um die Ecke. Wer beim „Nachklapp“ dabei sein möchte\, meldet sich bitte bei Angela per Rückantwort auf diese Mail. Die Tickets fürs Kino bucht bitte jede/r selber.
URL:https://www.schweizer-verein-berlin.de/event/kino-kino-matinee-im-adria-filmtheater/
LOCATION:Adria Filmtheater\, Schloßstr. 48\, 12165 Berlin\, 12165\, Germany
ORGANIZER;CN="Angela Schulze":MAILTO:a.schulze@schweizer-verein-berlin.de
END:VEVENT
BEGIN:VEVENT
DTSTART;TZID=Europe/Berlin:20251104T120000
DTEND;TZID=Europe/Berlin:20251104T130000
DTSTAMP:20260425T122542
CREATED:20251026T131238Z
LAST-MODIFIED:20251026T133246Z
UID:2913-1762257600-1762261200@www.schweizer-verein-berlin.de
SUMMARY:EINLADUNG zum gemeinsamen WEBINAR: „Politische Rechte für Auslandschweizerinnen und -schweizer: Abstimmen\, Wählen\, Unterschriften sammeln“
DESCRIPTION:EINLADUNG zum gemeinsamen WEBINAR von EDA\, Auslandschweizer-Organisation (ASO) SwissCommunity und Soliswiss zum Thema „Politische Rechte für Auslandschweizerinnen und -schweizer: Abstimmen\, Wählen\, Unterschriften sammeln“ am DIENSTAG\, 4. NOVEMBER. \n12:00 Uhr auf Deutsch\, 14 heures en français \n\nKeine Zeit? Kein Problem! Das Webinar wird aufgezeichnet und ist in der Folgewoche auf swisscommunity.org und soliswiss.ch verfügbar. \nLeben Sie als Schweizerin oder Schweizer im Ausland und möchten wissen\, welche politischen Rechte Ihnen zustehen und wie Sie diese wahrnehmen können? \nDann laden wir Sie herzlich zum nächsten gemeinsamen Webinar der Konsularischen Direktion des EDA\, der Auslandschweizer-Organisation (ASO)\, SwissCommunity und Soliswiss – Genossenschaft der Schweizer im Ausland ein. \nWas erwartet Sie? \nAbstimmen\, Wählen\, Unterschriften sammeln: Wir zeigen Ihnen\, welche Möglichkeiten Sie heute haben und werfen einen Blick in die Zukunft. Dabei gehen wir speziell auf folgende Fragen ein: \n• Welche politischen Rechte stehen Auslandschweizerinnen und Auslandschweizern zu und wie werden diese aktuell wahrgenommen? \n• Welche Hindernisse gibt es? \n• Wer ist wofür zuständig? \n• Wo steht die Schweiz aktuell beim E-Voting und E-Collecting und wie geht es weiter? \nReferentinnen und Referenten \nNeben Fachpersonen des EDA\, der ASO und von Soliswiss werden eine \nFachperson der Bundeskanzlei sowie Vertreter der Post für Sie anwesend sein. \nKeine Zeit? Kein Problem! \nDas Webinar wird aufgezeichnet und ist in der Folgewoche auf \nswisscommunity.org und soliswiss.ch verfügbar. \nFragen senden Sie bitte an: webinar@eda.admin.ch. \nEs werden allgemeine Fragen ausgewählt und am Ende des Webinars \nbehandelt. Wir bitten um Verständnis\, wenn wir aus Zeitgründen nicht alle \nFragen aufnehmen können. \nTeilnahme: \nSie können am Tag des Webinars um 12 Uhr über den Link teilnehmen. \nLien pour le webinar en français à 14h \nDas Webinar ist kostenlos\, es ist keine Voranmeldung nötig. Dauer ca. 60 Minuten.
URL:https://www.schweizer-verein-berlin.de/event/einladung-zum-gemeinsamen-webinar-politische-rechte-fuer-auslandschweizerinnen-und-schweizer-abstimmen-waehlen-unterschriften-sammeln/
LOCATION:online
END:VEVENT
BEGIN:VEVENT
DTSTART;TZID=Europe/Berlin:20251105T180000
DTEND;TZID=Europe/Berlin:20251105T210000
DTSTAMP:20260425T122542
CREATED:20241120T080945Z
LAST-MODIFIED:20251026T133200Z
UID:2657-1762365600-1762376400@www.schweizer-verein-berlin.de
SUMMARY:STAMMTISCH – TABLE DES HABITUÉ*ES
DESCRIPTION:STAMMTISCH am MITTWOCH\, 5. NOVEMBER 2025\, ab 18 Uhr \nWir treffen uns – wie gewohnt – ab 18 Uhr im Café MOLA am Wittenbergplatz 3a\, 10789 Berlin. Der Eingang zum Lokal befindet sich auf der Ecke. Wie immer gilt: Auch Nicht-Mitglieder sind herzlich willkommen. Unser Erkennungszeichen: ein Helvetia-Fähnchen auf dem Tisch. Wir bitten um Anmeldung bei Rolf J. Erler. \n  \nTABLE DES HABITUÉ:ES le MERCREDI 5 NOVEMBRE 2025\, à partir de 18 heures\nNous nous retrouverons – comme d’habitude – à partir de 18 heures au Café MOLA\, Wittenbergplatz 3a\, 10789 Berlin. L’entrée du local se trouve au coin de la rue. Comme toujours\, les non-membres sont également les bienvenus. Notre signe de reconnaissance : un petit drapeau Helvetia sur la table. Nous vous prions de vousinscrire par email auprès de Rolf J. Erler.
URL:https://www.schweizer-verein-berlin.de/event/stammtisch-table-des-habituees-19/
LOCATION:Café Mola\, Wittenbergplatz 3a\, Berlin\, 10789
CATEGORIES:Stammtisch
ORGANIZER;CN="Rolf-Joachim Erler":MAILTO:rj.erler@schweizer-verein-berlin.de
END:VEVENT
BEGIN:VEVENT
DTSTART;TZID=Europe/Berlin:20251116T140000
DTEND;TZID=Europe/Berlin:20251116T140000
DTSTAMP:20260425T122542
CREATED:20251026T132128Z
LAST-MODIFIED:20251026T132128Z
UID:2916-1763301600-1763301600@www.schweizer-verein-berlin.de
SUMMARY:BESUCH DER AUSSTELLUNG „GEFÜHLSDINGE“
DESCRIPTION:Aktuell sind im Museum scheinbar banale Alltagsgegenstände zu sehen\, hinter denen sich teils dramatische Geschichten verbergen. Das Museumsteam der Stiftung Neue Synagoge hat 36 Objekte aus dem Magazin geholt und diese in Berlin lebenden Jüdinnen und Juden vorgelegt. Sie alle haben die Dinge in die Hand genommen und dann damit begonnen\, davon zu erzählen\, was diese Objekte in ihnen auslösen\, welche Gefühle sie mit ihnen verbinden. Entstanden ist eine ganz besondere Schau\, deren Besuch sich lohnt. https://centrumjudaicum.de/portfolio/gefuehlsdinge/ Wer sich anschließen möchte\, meldet sich bitte bei Angela. Der Eintritt beträgt 7 Euro\, ermäßigt 4\,50 Euro. Im Anschluss spazieren wir ins Marinehaus. https://www.marinehaus.de/
URL:https://www.schweizer-verein-berlin.de/event/besuch-der-ausstellung-gefuehlsdinge/
LOCATION:Centrum Judaicum\, Oranienburger Straße 28 – 30\, Berlin\, Bundesstaat wählen:\, 10117\, Germany
ORGANIZER;CN="Angela Schulze":MAILTO:a.schulze@schweizer-verein-berlin.de
END:VEVENT
BEGIN:VEVENT
DTSTART;TZID=Europe/Berlin:20251128T190000
DTEND;TZID=Europe/Berlin:20251128T190000
DTSTAMP:20260425T122542
CREATED:20251026T132818Z
LAST-MODIFIED:20251026T132818Z
UID:2924-1764356400-1764356400@www.schweizer-verein-berlin.de
SUMMARY:JASSABEND / SOIREE JASS
DESCRIPTION:JASSABEND am FREITAG\, 28. November\, ab 19 Uhr\, im Café Mola. \nWer beim Kartenspielen dabei sein möchte\, meldet sich bitte per E-Mail an Mariann Leuenberger leuenberg@gmx.net. \n  \nSOIRÉE JASS vendredi 28 novembre\, à partir de 19 heures\, au café Mola \nLes personnes qui souhaitent participer à cette soirée sont priées de s’annoncer par e-mail à Mariann Leuenberger leuenberg@gmx.net.
URL:https://www.schweizer-verein-berlin.de/event/jassabend-soiree-jass-8/
LOCATION:Café Mola\, Wittenbergplatz 3a\, Berlin\, 10789
ORGANIZER;CN="Mariann Leuenberger":MAILTO:leuenberg@gmx.net
END:VEVENT
BEGIN:VEVENT
DTSTART;TZID=Europe/Berlin:20251129T170000
DTEND;TZID=Europe/Berlin:20251129T170000
DTSTAMP:20260425T122542
CREATED:20250427T104745Z
LAST-MODIFIED:20251123T122824Z
UID:2719-1764435600-1764435600@www.schweizer-verein-berlin.de
SUMMARY:WEIHNACHTSFEIER
DESCRIPTION:Weihnachtsfeier am Samstag\, 29. NOVEMBER 2025\, ab 17:00 Uhr (Einlass ab 16:30 Uhr) im Ristorante Cucinelli im Stadtpark Steglitz am Rosengarten. \nIn diesem Jahr wird uns Matthias Schnyder\, Chef Konsularische Dienstleistungen\, die Weihnachtswünsche der Schweizerischen Botschaft überbringen. Es ist zur schönen Tradition geworden\, unser Miteinander musikalisch einzustimmen. \nWir sind sehr glücklich\, Euch in diesem Jahr die Künstlerin Enikö Ginzery vorstellen zu dürfen. Enikö spielt auf einem Cimbalom (ein klassisch antikes Hackbrett) und ist preisgekrönte Meisterin dieses seltenen Musik-Handwerks (www.ginzery.com). Enikö hat ein fantastisches Programm zusammengestellt\, das wir Euch noch nicht verraten wollen. Soviel aber vorab: Im Wechsel werden wir andächtig lauschen und gemeinsam singen. Ihr dürft gespannt sein. \nOrganisatorisches \nDer Unkostenbeitrag für Essen und Programm variiert abhängig davon\, ob Ihr vegetarisch oder Fleisch essen wollt. Der Wirt hat uns ein schönes Menü zusammengestellt\, Ihr findet es nebenstehend. Von Geflügel haben wir aus aktuellem Anlass abgesehen. Auch hat sich der Vorstand entschieden\, einen kleinen Zuschuss pro Person dazuzugeben (gleich ob Mitglied oder Nicht-Mitglied)\, damit möglichst viele dabei sein können. Unser Spendentopf vor Ort freut sich im Fall über kleine Zuwendungen. Der Getränkekonsum erfolgt auf Selbstzahlerbasis. \nUm verbindliche Anmeldung (unter Angabe Eures Essenswunsches Menü 1\, Menü 2 oder Kindermenü) wird gebeten bis zum 21. November 2025 – per E-Mail an a.schulze@schweizer-verein-berlin.de oder telefonisch (tagsüber) unter 030 / 32 30 48 78. Auch interessierte Freundinnen und Freunde sind herzlich willkommen. \nWir bitten um Vorabüberweisung auf unser Konto: \nSchweizer Verein Berlin\nBerliner Volksbank:\nIBAN: DE41 1009 0000 2968 9590 02\nBIC: BEVODEBB \nDas Ristorante ist gut zu erreichen. Von der S+U-Bahnstation «Rathaus Steglitz» geht es zu Fuß oder mit dem Bus (M82\, X83\, 282) zur Kreuzung/Haltestelle «Steglitzer Damm/Bismarckstraße». Der Zugang zum Park befindet sich dann gegenüber der Albrechtstraße 82\, wir platzieren einen Aufsteller. \nMenü 1: \nAntipasti Casa\nVegetarische Nudeln\nTiramisu\nPreis: 27 Euro \nMenü 2: \nAntipasti Casa\nSaltimbocca alla Romana\nTiramisu\nPreis: 37 Euro \nKindergerichte \nSpaghetti Bambino\noder\nPizza Bambino\nPreis: 7 Euro \nWir freuen uns auf einen stimmungsvollen Abend mit Euch und auf viele inspirierende Begegnungen!
URL:https://www.schweizer-verein-berlin.de/event/vorschau-weihnachtsfeier/
LOCATION:Ristorante Cucinelli\, Albrechtstraße 47\, Berlin\, 12167
ORGANIZER;CN="Angela Schulze":MAILTO:a.schulze@schweizer-verein-berlin.de
END:VEVENT
END:VCALENDAR