BEGIN:VCALENDAR
VERSION:2.0
PRODID:-//Schweizer Verein Berlin - ECPv6.11.2.1//NONSGML v1.0//EN
CALSCALE:GREGORIAN
METHOD:PUBLISH
X-WR-CALNAME:Schweizer Verein Berlin
X-ORIGINAL-URL:https://www.schweizer-verein-berlin.de
X-WR-CALDESC:Veranstaltungen für Schweizer Verein Berlin
REFRESH-INTERVAL;VALUE=DURATION:PT1H
X-Robots-Tag:noindex
X-PUBLISHED-TTL:PT1H
BEGIN:VTIMEZONE
TZID:Europe/Berlin
BEGIN:DAYLIGHT
TZOFFSETFROM:+0100
TZOFFSETTO:+0200
TZNAME:CEST
DTSTART:20260329T010000
END:DAYLIGHT
BEGIN:STANDARD
TZOFFSETFROM:+0200
TZOFFSETTO:+0100
TZNAME:CET
DTSTART:20261025T010000
END:STANDARD
END:VTIMEZONE
BEGIN:VEVENT
DTSTART;TZID=Europe/Berlin:20260107T180000
DTEND;TZID=Europe/Berlin:20260107T210000
DTSTAMP:20260421T124742
CREATED:20260313T110924Z
LAST-MODIFIED:20260318T212621Z
UID:3065-1767808800-1767819600@www.schweizer-verein-berlin.de
SUMMARY:STAMMTISCH – TABLE DES HABITUÉ*ES
DESCRIPTION:Unser Stammtisch findet dieses Mal ab 18 Uhr im Restaurant NOLLE in den historischen S-Bahn-Bögen am Bahnhof Friedrichstraße statt. Betreiber des Lokals ist unser Vereinsmitglied Domenico Semeraro\, der uns an diesem Abend auch begrüßen wird. \nUm Anmeldung wird gebeten bei Angela Schulze. \nWie immer gilt: Auch Nicht-Mitglieder sind herzlich willkommen. Unser Erkennungszeichen: ein Helvetia-Fähnchen auf dem Tisch. \n  \nTABLE DES HABITUÉ:ES le MERCREDI 7 janvier 2026\, à partir de 18 heures. \nNotre réunion mensuelle aura lieu cette fois-ci à partir de 18 heures au Restaurant NOLLE\, situé dans les arcades historiques de la gare de Friedrichstraße. Le restaurant est tenu par Domenico Semeraro\, membre de notre association\, qui nous accueillera également ce soir-là. \nComme toujours\, les non-membres sont également les bienvenus.  \nNotre signe de reconnaissance : un petit drapeau Helvetia sur la table.  \nNous vous prions de vous inscrire par email auprès de Angela Schulze.  
URL:https://www.schweizer-verein-berlin.de/event/stammtisch-table-des-habituees-22-2/
LOCATION:Restaurant Nolle\, S-bahnbogen\, Georgenstraße 203\, Berlin\, 10117
CATEGORIES:Stammtisch
ORGANIZER;CN="Angela Schulze":MAILTO:a.schulze@schweizer-verein-berlin.de
END:VEVENT
BEGIN:VEVENT
DTSTART;TZID=Europe/Berlin:20260110T153000
DTEND;TZID=Europe/Berlin:20260110T170000
DTSTAMP:20260421T124742
CREATED:20260313T112117Z
LAST-MODIFIED:20260313T112212Z
UID:3076-1768059000-1768064400@www.schweizer-verein-berlin.de
SUMMARY:„OMEGÄNG“ am SAMSTAG\, 10. JANUAR 2026\, 15:30 Uhr
DESCRIPTION:Am SAMSTAG\, 10. JANUAR 2026\, präsentiert der Regisseur\, Autor\, Kameramann und ProduzentAldo Gugolz im Kino Central am Hackeschen Markt den Schweizer Dokumentarfilm „OMEGÄNG – im Land der Mundartist:innen“. Für alle\, die etwas Heimweh haben nach ihrer Sprachheimat. Der Film startet um 15:30 Uhr\, Laufzeit 76 Minuten. Der Eintritt ist frei – Kollekte. Zitat Gugolz: „Kei Angscht: Mit deutschen und französischen Untertiteln!“ Einen Vorgeschmack findet Ihr hier. Im Anschluss: Mini-Apéro im Foyer. Das Kino ist recht klein\, wir haben Plätze reserviert und drei davon sind noch übrig.
URL:https://www.schweizer-verein-berlin.de/event/omegaeng-am-sonntag-29-maerz-2026-18-uhr-2/
LOCATION:Kino Central am Hackeschen Markt\, Rosenthaler Straße 39\, Berlin\, 10178\, Germany
ORGANIZER;CN="Angela Schulze":MAILTO:a.schulze@schweizer-verein-berlin.de
END:VEVENT
BEGIN:VEVENT
DTSTART;TZID=Europe/Berlin:20260115T000000
DTEND;TZID=Europe/Berlin:20260115T000000
DTSTAMP:20260421T124742
CREATED:20260313T112538Z
LAST-MODIFIED:20260313T112538Z
UID:3083-1768435200-1768435200@www.schweizer-verein-berlin.de
SUMMARY:„MOTHER’S BABY“ von Johanna Moder
DESCRIPTION:Am 15. JANUAR startet dann die D-A-CH-Koproduktion „MOTHER’S BABY“ von Johanna Moder in den deutschen Kinos. In der Hauptrolle glänzt die schweizerisch-deutsche Schauspielerin Marie Leuenberger. Das Werk wirft einen kritischen Blick auf gesellschaftliche Erwartungen an Mütter\, mentale Gesundheit und das Bild der modernen Familie. Vom Filmverleih haben wir 4 x 2 Tickets bekommen\, die bundesweit in verschiedenen Kinos eingelöst werden können. Wer sich den Psychothriller nicht entgehen lassen möchte – einen Trailer gibt es hier – meldet sich bitte am 7. Januar 2026 zwischen 10 und 11 Uhr unter 030 / 32304878 bei Angela.
URL:https://www.schweizer-verein-berlin.de/event/mothers-baby-von-johanna-moder/
END:VEVENT
BEGIN:VEVENT
DTSTART;TZID=Europe/Berlin:20260118T193000
DTEND;TZID=Europe/Berlin:20260118T193000
DTSTAMP:20260421T124742
CREATED:20260313T113202Z
LAST-MODIFIED:20260313T113202Z
UID:3086-1768764600-1768764600@www.schweizer-verein-berlin.de
SUMMARY:KONZERT - Mattiu
DESCRIPTION:Am SONNTAG\, 18. JANUAR\, gastiert Mattiu in Berlin. Mit seiner unverwechselbaren Stimme und seinen berührenden Songs bringt der 27-jährige den Geist der Bündner Berge auf die Bühne. Er singt in seiner Muttersprache Rätoromanisch. Musikalisch wie inhaltlich steht er für die kulturelle Vielfalt unseres Landes. Mattiu verbindet Musik\, Bilder und Natur zu einem fesselnden Live-Erlebnis. Im Oktober 2025 erschien sein zweites Soloalbum „Aura“\, mit dem er sich zunehmend als eine der spannendsten neuen Stimmen der Schweizer Musikszene etabliert.\nWir verlosen 2 x 2 Tickets für das Konzert\, das ab 19.45 Uhr im Monarch Club am Kotti stattfindet. Bei Interesse meldet Euch bitte ebenfalls am 7. Januar 2026 zwischen 10 und 11 Uhr unter 030 / 32304878 bei Angela. \n  \nDIMANCHE 18 JANVIER\, Mattiu se produira à Berlin. Avec sa voix unique et ses chansons émouvantes\, ce jeune homme de 27 ans fait revivre sur scène l’esprit des montagnes des Grisons. Il chante dans sa langue maternelle\, le romanche. Tant sur le plan musical que thématique\, il incarne la diversité culturelle de notre pays. Mattiu mêle musique\, images et nature pour offrir une expérience live captivante. En octobre 2025 est sorti son deuxième album solo\, « Aura »\, grâce auquel il s’impose de plus en plus comme l’une des nouvelles voix les plus passionnantes de la scène musicale suisse.\nNous tirons au sort 2 x 2 billets pour le concert qui aura lieu à partir de 19h45 au Monarch Club\, au Kotti. Si vous êtes intéressé·e\, veuillez également contacter Angela le 7 janvier 2026 entre 10h et 11h au 030 / 32304878. \n 
URL:https://www.schweizer-verein-berlin.de/event/konzert-mattiu/
LOCATION:Monarch Club\, Skalitzer Straße 134\, Berlin\, 10999\, Germany
END:VEVENT
BEGIN:VEVENT
DTSTART;TZID=Europe/Berlin:20260123T140000
DTEND;TZID=Europe/Berlin:20260123T140000
DTSTAMP:20260421T124742
CREATED:20260313T114057Z
LAST-MODIFIED:20260313T114057Z
UID:3090-1769176800-1769176800@www.schweizer-verein-berlin.de
SUMMARY:BESUCH AUF DER GRÜNEN WOCHE
DESCRIPTION:BESUCH AUF DER GRÜNEN WOCHE am FREITAG\, 23. JANUAR 2026\, ab 14 Uhr. \nDie Grüne Woche gilt als die wichtigste Messe für Ernährungswirtschaft\, Landwirtschaft und Gartenbau\, hier gibt es kulinarische Vielfalt\, Innovation und Ideen von über 1.500 Ausstellern aus aller Welt zu entdecken. Unser Vereinsmitglied Gaby Schie ist seit eh und je dabei und wird Euch gern über die Messe führen. Am 23. Januar ab 14 Uhr gibt es das Happy Hour Ticket für 11 Euro und die Messe ist (nur an diesem Tag) bis 20 Uhr geöffnet. Wer dabei sein möchte\, meldet sich bitte bei Angela Schulze.  Natürlich steht auch ein Besuch des Schweiz-Pavillons auf der Agenda. \n  \nVISITE DE LA „SEMAINE VERTE“ vendredi 23 janvier 2026\, à partir de 14 h.  \nLa „Semaine verte“ (Grüne Woche) est considérée comme le salon le plus important dédié à l’industrie agroalimentaire\, à l’agriculture et à l’horticulture. On y découvre une grande diversité culinaire\, des innovations et des idées proposées par plus de 1 500 exposants venus du monde entier. Gaby Schie\, membre de notre association\, y participe depuis toujours et se fera un plaisir de vous guider à travers le salon. Le 23 janvier à partir de 14 h\, le billet « Happy Hour » sera disponible au prix de 11 euros et le salon sera ouvert (uniquement ce jour-là) jusqu’à 20 h. Si vous souhaitez y participer\, merci de vous annoncer auprès de Angela Schulze. Bien sûr\, une visite du pavillon suisse est également au programme. \n 
URL:https://www.schweizer-verein-berlin.de/event/besuch-auf-der-gruenen-woche/
ORGANIZER;CN="Angela Schulze":MAILTO:a.schulze@schweizer-verein-berlin.de
END:VEVENT
BEGIN:VEVENT
DTSTART;TZID=Europe/Berlin:20260123T190000
DTEND;TZID=Europe/Berlin:20260123T190000
DTSTAMP:20260421T124742
CREATED:20260313T105213Z
LAST-MODIFIED:20260313T105242Z
UID:3054-1769194800-1769194800@www.schweizer-verein-berlin.de
SUMMARY:JASSABEND / SOIREE JASS
DESCRIPTION:JASSABEND am FREITAG\, 23. Januar 2026\, ab 19 Uhr\, im Café Mola. \nWer beim Kartenspielen dabei sein möchte\, meldet sich bitte per E-Mail an Mariann Leuenberger leuenberg@gmx.net. \n  \nSOIRÉE JASS vendredi 23 janvier\, à partir de 19 heures\, au café Mola \nLes personnes qui souhaitent participer à cette soirée sont priées de s’annoncer par e-mail à Mariann Leuenberger leuenberg@gmx.net.
URL:https://www.schweizer-verein-berlin.de/event/jassabend-soiree-jass-9-2-2/
LOCATION:Café Mola\, Wittenbergplatz 3a\, Berlin\, 10789
ORGANIZER;CN="Mariann Leuenberger":MAILTO:leuenberg@gmx.net
END:VEVENT
BEGIN:VEVENT
DTSTART;TZID=Europe/Berlin:20260124T130000
DTEND;TZID=Europe/Berlin:20260124T150000
DTSTAMP:20260421T124742
CREATED:20260313T114728Z
LAST-MODIFIED:20260313T114728Z
UID:3093-1769259600-1769266800@www.schweizer-verein-berlin.de
SUMMARY:BESUCH der AUSSTELLUNG „100 JAHRE ARNOLD ODERMATT“
DESCRIPTION:Der Nidwaldner Photograph und Polizist Arnold Odermatt (1925 – 2021) wäre am 29. Mai 2025 hundert Jahre alt geworden. Aus diesem Anlass ehrt ihn die Galerie Springer noch bis zum bis 31. Januar mit einer großen Soloschau. Knapp 50 Aufnahmen vermitteln eine Ahnung von der Spannweite im Oeuvre Odermatts – von den Schwarz-Weiß-Ikonen der Autowracks bis zur Serie „Feierabend“\, wo Lasten- und Tiertransporte per Seilbahn dem Pensionär spannend heitere Motive lieferten. Unser Vorstandsmitglied Rudy Stüssi wird den Besuch begleiten. Wer dabei sein möchte\, meldet sich bitte per Mail bei Rudolf Stüssi. \n  \nLe photographe et policier nidwaldien Arnold Odermatt (1925 – 2021) aurait eu cent ans le 29 mai 2025. À cette occasion\, la Galerie Springer lui rend hommage jusqu’au 31 janvier avec une grande exposition solo. Près de 50 clichés donnent un aperçu de la diversité de l’œuvre d’Odermatt – des icônes en noir et blanc des épaves de voitures à la série « Feierabend »\, où le transport de marchandises et d’animaux par téléphérique a fourni au retraité des motifs à la fois captivants et joyeux. Rudy Stüssi\, membre de notre comité directeur\, accompagnera la visite. Si vous souhaitez y participer\, veuillez vous inscrire par e-mail auprès de Rudolf Stüssi.
URL:https://www.schweizer-verein-berlin.de/event/besuch-der-ausstellung-100-jahre-arnold-odermatt/
LOCATION:Galerie Springer\, Fasanenstraße 13\, Berlin\, 10623\, Germany
ORGANIZER;CN="Rudy St%C3%BCssi":MAILTO:rudolfstussi@hotmail.com
END:VEVENT
END:VCALENDAR