BEGIN:VCALENDAR
VERSION:2.0
PRODID:-//Schweizer Verein Berlin - ECPv6.11.2.1//NONSGML v1.0//EN
CALSCALE:GREGORIAN
METHOD:PUBLISH
X-WR-CALNAME:Schweizer Verein Berlin
X-ORIGINAL-URL:https://www.schweizer-verein-berlin.de
X-WR-CALDESC:Veranstaltungen für Schweizer Verein Berlin
REFRESH-INTERVAL;VALUE=DURATION:PT1H
X-Robots-Tag:noindex
X-PUBLISHED-TTL:PT1H
BEGIN:VTIMEZONE
TZID:Europe/Berlin
BEGIN:DAYLIGHT
TZOFFSETFROM:+0100
TZOFFSETTO:+0200
TZNAME:CEST
DTSTART:20260329T010000
END:DAYLIGHT
BEGIN:STANDARD
TZOFFSETFROM:+0200
TZOFFSETTO:+0100
TZNAME:CET
DTSTART:20261025T010000
END:STANDARD
END:VTIMEZONE
BEGIN:VEVENT
DTSTART;TZID=Europe/Berlin:20260304T180000
DTEND;TZID=Europe/Berlin:20260304T210000
DTSTAMP:20260419T145727
CREATED:20260206T173457Z
LAST-MODIFIED:20260318T212821Z
UID:2967-1772647200-1772658000@www.schweizer-verein-berlin.de
SUMMARY:STAMMTISCH – TABLE DES HABITUÉ*ES
DESCRIPTION:Wir treffen uns am 4. März in den Tiroler Stuben\, Heerstraße 137\, 14055 Berlin. \n\nWie immer gilt: Auch Nicht-Mitglieder sind herzlich willkommen. Unser Erkennungszeichen: ein Helvetia-Fähnchen auf dem Tisch. Wir bitten um Anmeldung bei Roland Weder. \n  \nTABLE DES HABITUÉ:ES le MERCREDI 4 MARS 2026\, à partir de 18 heures\nNous nous retrouverons ce mois de mars à partir de 18 heures au Café Tiroler Stuben\, Heerstraße 137\, 14055 Berlin.  \nComme toujours\, les non-membres sont également les bienvenus.  \nNotre signe de reconnaissance : un petit drapeau Helvetia sur la table. Nous vous prions de vous inscrire par email auprès de Roland Weder. 
URL:https://www.schweizer-verein-berlin.de/event/2967/
LOCATION:Tiroler Stuben\, Heerstraße 137\, Berlin\, Bundesstaat wählen:\, 14055\, Germany
CATEGORIES:Stammtisch
ORGANIZER;CN="Roland Weder":MAILTO:rweder@aol.com
END:VEVENT
BEGIN:VEVENT
DTSTART;TZID=Europe/Berlin:20260313T190000
DTEND;TZID=Europe/Berlin:20260313T190000
DTSTAMP:20260419T145727
CREATED:20260309T183220Z
LAST-MODIFIED:20260313T105619Z
UID:3030-1773428400-1773428400@www.schweizer-verein-berlin.de
SUMMARY:JASSABEND / SOIREE JASS
DESCRIPTION:JASSABEND am FREITAG\, 13. März 2026\, ab 19 Uhr\, im Café Mola. \nWer beim Kartenspielen dabei sein möchte\, meldet sich bitte per E-Mail an Mariann Leuenberger leuenberg@gmx.net. \n  \nSOIRÉE JASS vendredi 13 mars\, à partir de 19 heures\, au café Mola \nLes personnes qui souhaitent participer à cette soirée sont priées de s’annoncer par e-mail à Mariann Leuenberger leuenberg@gmx.net.
URL:https://www.schweizer-verein-berlin.de/event/jassabend-soiree-jass-9-2/
LOCATION:Café Mola\, Wittenbergplatz 3a\, Berlin\, 10789
ORGANIZER;CN="Mariann Leuenberger":MAILTO:leuenberg@gmx.net
END:VEVENT
BEGIN:VEVENT
DTSTART;TZID=Europe/Berlin:20260314T163000
DTEND;TZID=Europe/Berlin:20260314T163000
DTSTAMP:20260419T145727
CREATED:20260206T170100Z
LAST-MODIFIED:20260309T184022Z
UID:2948-1773505800-1773505800@www.schweizer-verein-berlin.de
SUMMARY:GENERALVERSAMMLUNG 2026 am SAMSTAG\, 14. MÄRZ 2026\, Start: 16:30 Uhr
DESCRIPTION:Wir treffen uns in der Wulle\, im Vereinshaus des TSV GutsMuths 1861 e.V. (Wullenweberstraße 15\, 10555 Berlin). \nStart: 16:30 Uhr\, Einlass: ab 16 Uhr. \nDiese Veranstaltung richtet sich ausschließlich an unsere Mitglieder\, die mit separater Post eine Einladung erhalten haben. Wer Mitglied werden will\, kann das hier übrigens tun: https://www.schweizer-verein-berlin.de/mitglied-werden/ \n  \nAssemblée générale. Début : 16 h 30\, ouverture des portes : 16 h \nCet événement est exclusivement réservé à nos membres\, qui ont reçu une invitation séparée par courrier. \nToute personne souhaitant devenir membre peut le faire ici : https://www.schweizer-verein-berlin.de/fr/devenir-membre/
URL:https://www.schweizer-verein-berlin.de/event/generalversammlung-2026-am-samstag-14-maerz-2026-start-1630-uhr/
LOCATION:TSV GutsMuths 1861 e.V.\, Wullenweberstraße 15\, Berlin\, Bundesstaat wählen:\, 10555\, Germany
ORGANIZER;CN="Angela Schulze":MAILTO:a.schulze@schweizer-verein-berlin.de
END:VEVENT
BEGIN:VEVENT
DTSTART;TZID=Europe/Berlin:20260322T140000
DTEND;TZID=Europe/Berlin:20260322T170000
DTSTAMP:20260419T145727
CREATED:20260309T184627Z
LAST-MODIFIED:20260309T184627Z
UID:3037-1774188000-1774198800@www.schweizer-verein-berlin.de
SUMMARY:SPAZIERGANG DURCH WEISSENSEE am SONNTAG\, 22. MÄRZ 2026\, ab 14 Uhr
DESCRIPTION:Berlin-Gäste verirren sich nur selten in dieses Quartier\, das zu Beginn des 20. Jahrhunderts aus dem Dornröschen-Schlaf eines Dorfes erwachte und sich dank der Architekten Bruno Taut und Paul Mebes in ein großstädtisches Ensemble verwandelte. Dass Bertold Brecht gegenüber der Dorfkirche residierte\, Wohnanlagen im Geist des Neuen Bauens und des Expressionismus entstanden und bei sommerlichen Temperaturen im Strandbad Am Weißen See gebadet werden kann\, das alles kann man beim Besuch des Quartiers ebenso entdecken wie auch den wohl größten jüdischen Friedhof Deutschlands\, auf dem kürzlich Margot Friedländer ihre letzte Ruhe fand. Mit Orankesee\, Obersee und Faulem See passieren wir drei Seen in knapp zwei Stunden – und das mitten in der Stadt. Wer dabei sein will\, meldet sich bitte bei Angela Schulze. \n  \nPROMENADE À WEISSENSEE\, à partir de 14 h.  \nLes visiteurs de Berlin s’égarent rarement dans ce quartier qui\, au début du XXe siècle\, s’est réveillé de son sommeil de Belle au bois dormant et s’est transformé en un ensemble urbain grâce aux architectes Bruno Taut et Paul Mebes. Lors d’une visite du quartier\, vous découvrirez que Bertold Brecht résidait en face de l’église du village\, que des complexes résidentiels ont été construits dans l’esprit du mouvement architectural « Neues Bauen » (nouvelle construction) et de l’expressionnisme\, et que vous pouvez vous baigner dans la piscine Am Weißen See lorsque les températures estivales le permettent. Vous découvrirez également le plus grand cimetière juif d’Allemagne\, où Margot Friedländer a récemment trouvé sa dernière demeure. Avec l’Orankesee\, l’Obersee et le Faule See\, nous passons devant trois lacs en moins de deux heures\, et ce en plein cœur de la ville. Si vous souhaitez participer\, veuillez vous inscrire auprès de Angela Schulze.  \n 
URL:https://www.schweizer-verein-berlin.de/event/spaziergang-durch-weissensee-am-sonntag-22-maerz-2026-ab-14-uhr/
ORGANIZER;CN="Angela Schulze":MAILTO:a.schulze@schweizer-verein-berlin.de
END:VEVENT
BEGIN:VEVENT
DTSTART;TZID=Europe/Berlin:20260329T080000
DTEND;TZID=Europe/Berlin:20260329T180000
DTSTAMP:20260419T145727
CREATED:20260309T185046Z
LAST-MODIFIED:20260309T185046Z
UID:3040-1774771200-1774807200@www.schweizer-verein-berlin.de
SUMMARY:„OMEGÄNG“ am SONNTAG\, 29. MÄRZ 2026\, 18 Uhr
DESCRIPTION:Die Berlin-Premiere der Doku von Aldo Gugolz und Team war ratzfatz ausgebucht. Eine zweite Chance\, den ganz wunderbaren Film anzuschauen\, gibt es hier.
URL:https://www.schweizer-verein-berlin.de/event/omegaeng-am-sonntag-29-maerz-2026-18-uhr/
LOCATION:Kino Central am Hackeschen Markt\, Rosenthaler Straße 39\, Berlin\, 10178\, Germany
END:VEVENT
END:VCALENDAR